BEGIN:VCALENDAR
CALSCALE:GREGORIAN
VERSION:2.0
X-WR-CALNAME:WWDC20 Special Event Keynote
METHOD:PUBLISH
PRODID:-//Apple Inc.//Mac OS X 10.14.4//EN
X-CALENDARSERVER-ACCESS:PUBLIC
BEGIN:VTIMEZONE
TZID:America/Los_Angeles
BEGIN:DAYLIGHT
TZOFFSETFROM:-0800
RRULE:FREQ=YEARLY;BYMONTH=3;BYDAY=2SU
DTSTART:20070311T020000
TZNAME:PDT
TZOFFSETTO:-0700
END:DAYLIGHT
BEGIN:STANDARD
TZOFFSETFROM:-0700
RRULE:FREQ=YEARLY;BYMONTH=11;BYDAY=1SU
DTSTART:20071104T020000
TZNAME:PST
TZOFFSETTO:-0800
END:STANDARD
END:VTIMEZONE
BEGIN:VEVENT
CREATED:20200601T185214Z
UID:186790C4-2FCB-4900-A18E-92925AF12F05
URL;VALUE=URI:https://www.apple.com/apple-events/event-stream/
DTEND;TZID=America/Los_Angeles:20200622T120000
TRANSP:TRANSPARENT
X-APPLE-TRAVEL-ADVISORY-BEHAVIOR:AUTOMATIC
SUMMARY:WWDC20 Special Event Keynote
DTSTART;TZID=America/Los_Angeles:20200622T100000
DTSTAMP:20200601T185215Z
LOCATION:Virtual Event
SEQUENCE:1
DESCRIPTION:Join us for a Special Event Keynote from Apple Park.
BEGIN:VALARM
X-WR-ALARMUID:97261612-5B61-4A08-8082-FEEF4270C3DC
UID:747AC2F4-F16E-4B3D-836A-D120D663AB4F
TRIGGER:-PT15M
ATTACH;VALUE=URI:Basso
ACTION:AUDIO
END:VALARM
BEGIN:VALARM
X-WR-ALARMUID:678E81E2-4AD4-46FA-84F9-ED85B32097E8
UID:890FFB32-CAD9-4983-823F-B4D2BC8A9207
TRIGGER:-PT10M
DESCRIPTION:Event reminder
ACTION:DISPLAY
END:VALARM
END:VEVENT
END:VCALENDAR
